Back to Build/check report for BioC 3.14 experimental data
ABCDEFGHIJKLMNOPQR[S]TUVWXYZ

This page was generated on 2021-10-26 15:52:19 -0400 (Tue, 26 Oct 2021).

INSTALL results for seqCNA.annot on nebbiolo2

To the developers/maintainers of the seqCNA.annot package:
Make sure to use the following settings in order to reproduce any error or warning you see on this page.

raw results

Package 344/408HostnameOS / ArchINSTALLBUILDCHECK
seqCNA.annot 1.29.0  (landing page)
David Mosen-Ansorena
Snapshot Date: 2021-10-26 09:30:02 -0400 (Tue, 26 Oct 2021)
git_url: https://git.bioconductor.org/packages/seqCNA.annot
git_branch: master
git_last_commit: f9bd5b0
git_last_commit_date: 2021-05-19 11:43:08 -0400 (Wed, 19 May 2021)
nebbiolo2Linux (Ubuntu 20.04.2 LTS) / x86_64  OK    OK    OK  UNNEEDED, same version is already published

Summary

Package: seqCNA.annot
Version: 1.29.0
Command: /home/biocbuild/bbs-3.14-bioc/R/bin/R CMD INSTALL seqCNA.annot
StartedAt: 2021-10-26 11:00:43 -0400 (Tue, 26 Oct 2021)
EndedAt: 2021-10-26 11:00:46 -0400 (Tue, 26 Oct 2021)
EllapsedTime: 2.2 seconds
RetCode: 0
Status:   OK  

Command output

##############################################################################
##############################################################################
###
### Running command:
###
###   /home/biocbuild/bbs-3.14-bioc/R/bin/R CMD INSTALL seqCNA.annot
###
##############################################################################
##############################################################################


* installing to library ‘/home/biocbuild/bbs-3.14-bioc/R/library’
* installing *source* package ‘seqCNA.annot’ ...
** using staged installation
** R
** data
** inst
** byte-compile and prepare package for lazy loading
** help
*** installing help indices
** building package indices
** testing if installed package can be loaded from temporary location
** testing if installed package can be loaded from final location
** testing if installed package keeps a record of temporary installation path
* DONE (seqCNA.annot)