Back to Build/check report for BioC 3.14 experimental data
ABCDEFGHIJKLMNOPQR[S]TUVWXYZ

This page was generated on 2021-10-19 15:52:18 -0400 (Tue, 19 Oct 2021).

BUILD results for seqCNA.annot on nebbiolo2

To the developers/maintainers of the seqCNA.annot package:
Make sure to use the following settings in order to reproduce any error or warning you see on this page.

raw results

Package 340/404HostnameOS / ArchINSTALLBUILDCHECK
seqCNA.annot 1.29.0  (landing page)
David Mosen-Ansorena
Snapshot Date: 2021-10-19 09:30:02 -0400 (Tue, 19 Oct 2021)
git_url: https://git.bioconductor.org/packages/seqCNA.annot
git_branch: master
git_last_commit: f9bd5b0
git_last_commit_date: 2021-05-19 11:43:08 -0400 (Wed, 19 May 2021)
nebbiolo2Linux (Ubuntu 20.04.2 LTS) / x86_64  OK    OK    OK  UNNEEDED, same version is already published

Summary

Package: seqCNA.annot
Version: 1.29.0
Command: /home/biocbuild/bbs-3.14-bioc/R/bin/R CMD build --keep-empty-dirs --no-resave-data seqCNA.annot
StartedAt: 2021-10-19 11:34:43 -0400 (Tue, 19 Oct 2021)
EndedAt: 2021-10-19 11:34:45 -0400 (Tue, 19 Oct 2021)
EllapsedTime: 1.1 seconds
RetCode: 0
Status:   OK  
PackageFile: seqCNA.annot_1.29.0.tar.gz
PackageFileSize: 14.47 MiB

Command output

##############################################################################
##############################################################################
###
### Running command:
###
###   /home/biocbuild/bbs-3.14-bioc/R/bin/R CMD build --keep-empty-dirs --no-resave-data seqCNA.annot
###
##############################################################################
##############################################################################


* checking for file ‘seqCNA.annot/DESCRIPTION’ ... OK
* preparing ‘seqCNA.annot’:
* checking DESCRIPTION meta-information ... OK
* checking for LF line-endings in source and make files and shell scripts
* checking for empty or unneeded directories
* looking to see if a ‘data/datalist’ file should be added
* building ‘seqCNA.annot_1.29.0.tar.gz’