Index of /checkResults/3.14/data-experiment-LATEST/scpdata/raw-results

[ICO]NameLast modifiedSizeDescription

[DIR]Parent Directory  -  
[   ]info.dcf19-Sep-2021 04:51 283  
[DIR]nebbiolo2/19-Sep-2021 04:51 -