Back to Build/check report for BioC 3.14 experimental data
ABCDEFGHIJKLMNOPQR[S]TUVWXYZ

This page was generated on 2021-09-18 15:51:40 -0400 (Sat, 18 Sep 2021).

BUILD results for scpdata on nebbiolo2

To the developers/maintainers of the scpdata package:
Make sure to use the following settings in order to reproduce any error or warning you see on this page.

raw results

Package 333/401HostnameOS / ArchINSTALLBUILDCHECK
scpdata 1.1.0  (landing page)
Christophe Vanderaa
Snapshot Date: 2021-09-18 09:30:01 -0400 (Sat, 18 Sep 2021)
git_url: https://git.bioconductor.org/packages/scpdata
git_branch: master
git_last_commit: a82033b
git_last_commit_date: 2021-05-19 12:11:35 -0400 (Wed, 19 May 2021)
nebbiolo2Linux (Ubuntu 20.04.2 LTS) / x86_64  OK    OK    OK  UNNEEDED, same version is already published

Summary

Package: scpdata
Version: 1.1.0
Command: /home/biocbuild/bbs-3.14-bioc/R/bin/R CMD build --keep-empty-dirs --no-resave-data scpdata
StartedAt: 2021-09-18 11:34:20 -0400 (Sat, 18 Sep 2021)
EndedAt: 2021-09-18 11:35:15 -0400 (Sat, 18 Sep 2021)
EllapsedTime: 54.1 seconds
RetCode: 0
Status:   OK  
PackageFile: scpdata_1.1.0.tar.gz
PackageFileSize: 313.7 KiB

Command output

##############################################################################
##############################################################################
###
### Running command:
###
###   /home/biocbuild/bbs-3.14-bioc/R/bin/R CMD build --keep-empty-dirs --no-resave-data scpdata
###
##############################################################################
##############################################################################


* checking for file ‘scpdata/DESCRIPTION’ ... OK
* preparing ‘scpdata’:
* checking DESCRIPTION meta-information ... OK
* installing the package to build vignettes
* creating vignettes ... OK
* checking for LF line-endings in source and make files and shell scripts
* checking for empty or unneeded directories
Omitted ‘LazyData’ from DESCRIPTION
* building ‘scpdata_1.1.0.tar.gz’