Back to Build/check report for BioC 3.14 experimental data
ABCDEFGHIJKLMNOPQR[S]TUVWXYZ

This page was generated on 2021-10-21 15:52:03 -0400 (Thu, 21 Oct 2021).

All results for package scpdata

To the developers/maintainers of the scpdata package:
Make sure to use the following settings in order to reproduce any error or warning you see on this page.

raw results

Package 337/406HostnameOS / ArchINSTALLBUILDCHECK
scpdata 1.1.2  (landing page)
Christophe Vanderaa
Snapshot Date: 2021-10-21 09:30:01 -0400 (Thu, 21 Oct 2021)
git_url: https://git.bioconductor.org/packages/scpdata
git_branch: master
git_last_commit: 1093ac2
git_last_commit_date: 2021-10-07 05:21:44 -0400 (Thu, 07 Oct 2021)
nebbiolo2Linux (Ubuntu 20.04.2 LTS) / x86_64  OK    OK    OK  UNNEEDED, same version is already published