Back to Build/check report for BioC 3.14 experimental data
ABCDEFGHIJKLMNOPQR[S]TUVWXYZ

This page was generated on 2021-10-16 15:51:46 -0400 (Sat, 16 Oct 2021).

BUILD results for scanMiRData on nebbiolo2

To the developers/maintainers of the scanMiRData package:
Make sure to use the following settings in order to reproduce any error or warning you see on this page.

raw results

Package 332/404HostnameOS / ArchINSTALLBUILDCHECK
scanMiRData 0.99.6  (landing page)
Fridolin Gross
Snapshot Date: 2021-10-16 09:30:02 -0400 (Sat, 16 Oct 2021)
git_url: https://git.bioconductor.org/packages/scanMiRData
git_branch: master
git_last_commit: 66f62ce
git_last_commit_date: 2021-05-17 05:15:45 -0400 (Mon, 17 May 2021)
nebbiolo2Linux (Ubuntu 20.04.2 LTS) / x86_64  OK    OK    OK  UNNEEDED, same version is already published

Summary

Package: scanMiRData
Version: 0.99.6
Command: /home/biocbuild/bbs-3.14-bioc/R/bin/R CMD build --keep-empty-dirs --no-resave-data scanMiRData
StartedAt: 2021-10-16 11:32:35 -0400 (Sat, 16 Oct 2021)
EndedAt: 2021-10-16 11:32:56 -0400 (Sat, 16 Oct 2021)
EllapsedTime: 21.3 seconds
RetCode: 0
Status:   OK  
PackageFile: scanMiRData_0.99.6.tar.gz
PackageFileSize: 16.14 MiB

Command output

##############################################################################
##############################################################################
###
### Running command:
###
###   /home/biocbuild/bbs-3.14-bioc/R/bin/R CMD build --keep-empty-dirs --no-resave-data scanMiRData
###
##############################################################################
##############################################################################


* checking for file ‘scanMiRData/DESCRIPTION’ ... OK
* preparing ‘scanMiRData’:
* checking DESCRIPTION meta-information ... OK
* installing the package to build vignettes
* creating vignettes ... OK
* checking for LF line-endings in source and make files and shell scripts
* checking for empty or unneeded directories
* looking to see if a ‘data/datalist’ file should be added
* building ‘scanMiRData_0.99.6.tar.gz’