Back to Build/check report for BioC 3.14 experimental data
ABCDEFGHIJKLMNOPQR[S]TUVWXYZ

This page was generated on 2021-12-01 18:35:25 -0500 (Wed, 01 Dec 2021).

All results for package scanMiRData

To the developers/maintainers of the scanMiRData package:
Make sure to use the following settings in order to reproduce any error or warning you see on this page.

raw results

Package 335/408HostnameOS / ArchINSTALLBUILDCHECK
scanMiRData 1.0.0  (landing page)
Fridolin Gross
Snapshot Date: 2021-12-01 08:30:01 -0500 (Wed, 01 Dec 2021)
git_url: https://git.bioconductor.org/packages/scanMiRData
git_branch: RELEASE_3_14
git_last_commit: 7a9f8cf
git_last_commit_date: 2021-10-26 12:41:33 -0500 (Tue, 26 Oct 2021)
nebbiolo2Linux (Ubuntu 20.04.3 LTS) / x86_64  OK    OK    OK  UNNEEDED, same version is already published