Back to Build/check report for BioC 3.14 experimental data
ABCDEFGHIJKLMNOPQR[S]TUVWXYZ

This page was generated on 2021-10-16 15:51:46 -0400 (Sat, 16 Oct 2021).

BUILD results for scTHI.data on nebbiolo2

To the developers/maintainers of the scTHI.data package:
Make sure to use the following settings in order to reproduce any error or warning you see on this page.

raw results

Package 337/404HostnameOS / ArchINSTALLBUILDCHECK
scTHI.data 1.5.0  (landing page)
Michele Ceccarelli
Snapshot Date: 2021-10-16 09:30:02 -0400 (Sat, 16 Oct 2021)
git_url: https://git.bioconductor.org/packages/scTHI.data
git_branch: master
git_last_commit: c3f5054
git_last_commit_date: 2021-05-19 12:09:48 -0400 (Wed, 19 May 2021)
nebbiolo2Linux (Ubuntu 20.04.2 LTS) / x86_64  OK    OK    OK  UNNEEDED, same version is already published

Summary

Package: scTHI.data
Version: 1.5.0
Command: /home/biocbuild/bbs-3.14-bioc/R/bin/R CMD build --keep-empty-dirs --no-resave-data scTHI.data
StartedAt: 2021-10-16 11:32:56 -0400 (Sat, 16 Oct 2021)
EndedAt: 2021-10-16 11:33:03 -0400 (Sat, 16 Oct 2021)
EllapsedTime: 6.8 seconds
RetCode: 0
Status:   OK  
PackageFile: scTHI.data_1.5.0.tar.gz
PackageFileSize: 24.17 MiB

Command output

##############################################################################
##############################################################################
###
### Running command:
###
###   /home/biocbuild/bbs-3.14-bioc/R/bin/R CMD build --keep-empty-dirs --no-resave-data scTHI.data
###
##############################################################################
##############################################################################


* checking for file ‘scTHI.data/DESCRIPTION’ ... OK
* preparing ‘scTHI.data’:
* checking DESCRIPTION meta-information ... OK
* checking for LF line-endings in source and make files and shell scripts
* checking for empty or unneeded directories
* looking to see if a ‘data/datalist’ file should be added
* building ‘scTHI.data_1.5.0.tar.gz’