Back to Build/check report for BioC 3.14 experimental data
ABCDEFGHIJKLMNOPQR[S]TUVWXYZ

This page was generated on 2021-10-19 15:52:18 -0400 (Tue, 19 Oct 2021).

CHECK results for sampleClassifierData on nebbiolo2

To the developers/maintainers of the sampleClassifierData package:
Make sure to use the following settings in order to reproduce any error or warning you see on this page.

raw results

Package 330/404HostnameOS / ArchINSTALLBUILDCHECK
sampleClassifierData 1.17.0  (landing page)
Khadija El Amrani
Snapshot Date: 2021-10-19 09:30:02 -0400 (Tue, 19 Oct 2021)
git_url: https://git.bioconductor.org/packages/sampleClassifierData
git_branch: master
git_last_commit: 0f2df47
git_last_commit_date: 2021-05-19 12:11:30 -0400 (Wed, 19 May 2021)
nebbiolo2Linux (Ubuntu 20.04.2 LTS) / x86_64  OK    OK    OK  UNNEEDED, same version is already published

Summary

Package: sampleClassifierData
Version: 1.17.0
Command: /home/biocbuild/bbs-3.14-bioc/R/bin/R CMD check --install=check:sampleClassifierData.install-out.txt --library=/home/biocbuild/bbs-3.14-bioc/R/library --no-vignettes --timings sampleClassifierData_1.17.0.tar.gz
StartedAt: 2021-10-19 12:36:01 -0400 (Tue, 19 Oct 2021)
EndedAt: 2021-10-19 12:37:14 -0400 (Tue, 19 Oct 2021)
EllapsedTime: 73.2 seconds
RetCode: 0
Status:   OK  
CheckDir: sampleClassifierData.Rcheck
Warnings: 0

Command output

##############################################################################
##############################################################################
###
### Running command:
###
###   /home/biocbuild/bbs-3.14-bioc/R/bin/R CMD check --install=check:sampleClassifierData.install-out.txt --library=/home/biocbuild/bbs-3.14-bioc/R/library --no-vignettes --timings sampleClassifierData_1.17.0.tar.gz
###
##############################################################################
##############################################################################


* using log directory ‘/home/biocbuild/bbs-3.14-data-experiment/meat/sampleClassifierData.Rcheck’
* using R version 4.1.1 (2021-08-10)
* using platform: x86_64-pc-linux-gnu (64-bit)
* using session charset: UTF-8
* using option ‘--no-vignettes’
* checking for file ‘sampleClassifierData/DESCRIPTION’ ... OK
* checking extension type ... Package
* this is package ‘sampleClassifierData’ version ‘1.17.0’
* checking package namespace information ... OK
* checking package dependencies ... OK
* checking if this is a source package ... OK
* checking if there is a namespace ... OK
* checking for hidden files and directories ... OK
* checking for portable file names ... OK
* checking for sufficient/correct file permissions ... OK
* checking whether package ‘sampleClassifierData’ can be installed ... OK
* checking installed package size ... NOTE
  installed size is 15.5Mb
  sub-directories of 1Mb or more:
    data  15.4Mb
* checking package directory ... OK
* checking ‘build’ directory ... OK
* checking DESCRIPTION meta-information ... OK
* checking top-level files ... OK
* checking for left-over files ... OK
* checking index information ... OK
* checking package subdirectories ... OK
* checking whether the package can be loaded ... OK
* checking whether the package can be loaded with stated dependencies ... OK
* checking whether the package can be unloaded cleanly ... OK
* checking whether the namespace can be loaded with stated dependencies ... OK
* checking whether the namespace can be unloaded cleanly ... OK
* checking Rd files ... OK
* checking Rd metadata ... OK
* checking Rd cross-references ... OK
* checking for missing documentation entries ... OK
* checking for code/documentation mismatches ... OK
* checking Rd \usage sections ... OK
* checking Rd contents ... OK
* checking for unstated dependencies in examples ... OK
* checking contents of ‘data’ directory ... OK
* checking data for non-ASCII characters ... NOTE
  Note: found 1 marked UTF-8 string
* checking data for ASCII and uncompressed saves ... OK
* checking files in ‘vignettes’ ... OK
* checking examples ... OK
* checking for unstated dependencies in vignettes ... OK
* checking package vignettes in ‘inst/doc’ ... OK
* checking running R code from vignettes ... SKIPPED
* checking re-building of vignette outputs ... SKIPPED
* checking PDF version of manual ... OK
* DONE

Status: 2 NOTEs
See
  ‘/home/biocbuild/bbs-3.14-data-experiment/meat/sampleClassifierData.Rcheck/00check.log’
for details.



Installation output

sampleClassifierData.Rcheck/00install.out

##############################################################################
##############################################################################
###
### Running command:
###
###   /home/biocbuild/bbs-3.14-bioc/R/bin/R CMD INSTALL sampleClassifierData
###
##############################################################################
##############################################################################


* installing to library ‘/home/biocbuild/bbs-3.14-bioc/R/library’
* installing *source* package ‘sampleClassifierData’ ...
** using staged installation
** data
** help
*** installing help indices
** building package indices
** installing vignettes
** testing if installed package can be loaded from temporary location
** testing if installed package can be loaded from final location
** testing if installed package keeps a record of temporary installation path
* DONE (sampleClassifierData)

Tests output


Example timings

sampleClassifierData.Rcheck/sampleClassifierData-Ex.timings

nameusersystemelapsed
se_micro_refmat0.9970.0451.040
se_micro_testmat0.1100.0030.114
se_rnaseq_refmat0.5890.0280.617
se_rnaseq_testmat0.7500.0860.837