Back to Build/check report for BioC 3.14 experimental data
ABCDEFGHIJKLMNOPQR[S]TUVWXYZ

This page was generated on 2021-10-23 15:51:47 -0400 (Sat, 23 Oct 2021).

BUILD results for sampleClassifierData on nebbiolo2

To the developers/maintainers of the sampleClassifierData package:
Make sure to use the following settings in order to reproduce any error or warning you see on this page.

raw results

Package 333/408HostnameOS / ArchINSTALLBUILDCHECK
sampleClassifierData 1.17.0  (landing page)
Khadija El Amrani
Snapshot Date: 2021-10-23 09:30:01 -0400 (Sat, 23 Oct 2021)
git_url: https://git.bioconductor.org/packages/sampleClassifierData
git_branch: master
git_last_commit: 0f2df47
git_last_commit_date: 2021-05-19 12:11:30 -0400 (Wed, 19 May 2021)
nebbiolo2Linux (Ubuntu 20.04.2 LTS) / x86_64  OK    OK    OK  UNNEEDED, same version is already published

Summary

Package: sampleClassifierData
Version: 1.17.0
Command: /home/biocbuild/bbs-3.14-bioc/R/bin/R CMD build --keep-empty-dirs --no-resave-data sampleClassifierData
StartedAt: 2021-10-23 11:34:24 -0400 (Sat, 23 Oct 2021)
EndedAt: 2021-10-23 11:34:43 -0400 (Sat, 23 Oct 2021)
EllapsedTime: 19.0 seconds
RetCode: 0
Status:   OK  
PackageFile: sampleClassifierData_1.17.0.tar.gz
PackageFileSize: 15.54 MiB

Command output

##############################################################################
##############################################################################
###
### Running command:
###
###   /home/biocbuild/bbs-3.14-bioc/R/bin/R CMD build --keep-empty-dirs --no-resave-data sampleClassifierData
###
##############################################################################
##############################################################################


* checking for file ‘sampleClassifierData/DESCRIPTION’ ... OK
* preparing ‘sampleClassifierData’:
* checking DESCRIPTION meta-information ... OK
* installing the package to process help pages
* saving partial Rd database
* creating vignettes ... OK
* checking for LF line-endings in source and make files and shell scripts
* checking for empty or unneeded directories
* looking to see if a ‘data/datalist’ file should be added
* building ‘sampleClassifierData_1.17.0.tar.gz’