Back to Build/check report for BioC 3.14 experimental data
ABCDEFGHIJKLMNOPQ[R]STUVWXYZ

This page was generated on 2021-10-21 15:52:03 -0400 (Thu, 21 Oct 2021).

CHECK results for rRDPData on nebbiolo2

To the developers/maintainers of the rRDPData package:
Make sure to use the following settings in order to reproduce any error or warning you see on this page.

raw results

Package 320/406HostnameOS / ArchINSTALLBUILDCHECK
rRDPData 1.13.0  (landing page)
Michael Hahsler
Snapshot Date: 2021-10-21 09:30:01 -0400 (Thu, 21 Oct 2021)
git_url: https://git.bioconductor.org/packages/rRDPData
git_branch: master
git_last_commit: 70908f8
git_last_commit_date: 2021-05-19 11:48:40 -0400 (Wed, 19 May 2021)
nebbiolo2Linux (Ubuntu 20.04.2 LTS) / x86_64  OK    OK    OK  UNNEEDED, same version is already published

Summary

Package: rRDPData
Version: 1.13.0
Command: /home/biocbuild/bbs-3.14-bioc/R/bin/R CMD check --install=check:rRDPData.install-out.txt --library=/home/biocbuild/bbs-3.14-bioc/R/library --no-vignettes --timings rRDPData_1.13.0.tar.gz
StartedAt: 2021-10-21 12:36:09 -0400 (Thu, 21 Oct 2021)
EndedAt: 2021-10-21 12:36:33 -0400 (Thu, 21 Oct 2021)
EllapsedTime: 24.1 seconds
RetCode: 0
Status:   OK  
CheckDir: rRDPData.Rcheck
Warnings: 0

Command output

##############################################################################
##############################################################################
###
### Running command:
###
###   /home/biocbuild/bbs-3.14-bioc/R/bin/R CMD check --install=check:rRDPData.install-out.txt --library=/home/biocbuild/bbs-3.14-bioc/R/library --no-vignettes --timings rRDPData_1.13.0.tar.gz
###
##############################################################################
##############################################################################


* using log directory ‘/home/biocbuild/bbs-3.14-data-experiment/meat/rRDPData.Rcheck’
* using R version 4.1.1 (2021-08-10)
* using platform: x86_64-pc-linux-gnu (64-bit)
* using session charset: UTF-8
* using option ‘--no-vignettes’
* checking for file ‘rRDPData/DESCRIPTION’ ... OK
* this is package ‘rRDPData’ version ‘1.13.0’
* checking package namespace information ... OK
* checking package dependencies ... OK
* checking if this is a source package ... OK
* checking if there is a namespace ... OK
* checking for hidden files and directories ... OK
* checking for portable file names ... OK
* checking for sufficient/correct file permissions ... OK
* checking whether package ‘rRDPData’ can be installed ... OK
* checking installed package size ... NOTE
  installed size is 58.7Mb
  sub-directories of 1Mb or more:
    extdata  58.6Mb
* checking package directory ... OK
* checking DESCRIPTION meta-information ... NOTE
Malformed Description field: should contain one or more complete sentences.
* checking top-level files ... OK
* checking for left-over files ... OK
* checking index information ... OK
* checking package subdirectories ... OK
* checking whether the package can be loaded ... OK
* checking whether the package can be loaded with stated dependencies ... OK
* checking whether the package can be unloaded cleanly ... OK
* checking whether the namespace can be loaded with stated dependencies ... OK
* checking whether the namespace can be unloaded cleanly ... OK
* checking Rd files ... OK
* checking Rd metadata ... OK
* checking Rd cross-references ... OK
* checking for code/documentation mismatches ... OK
* checking Rd \usage sections ... OK
* checking Rd contents ... OK
* checking for unstated dependencies in examples ... OK
* checking examples ... OK
Examples with CPU (user + system) or elapsed time > 5s
     user system elapsed
16S 8.462  0.607   2.798
* checking PDF version of manual ... OK
* DONE

Status: 2 NOTEs
See
  ‘/home/biocbuild/bbs-3.14-data-experiment/meat/rRDPData.Rcheck/00check.log’
for details.



Installation output

rRDPData.Rcheck/00install.out

##############################################################################
##############################################################################
###
### Running command:
###
###   /home/biocbuild/bbs-3.14-bioc/R/bin/R CMD INSTALL rRDPData
###
##############################################################################
##############################################################################


* installing to library ‘/home/biocbuild/bbs-3.14-bioc/R/library’
* installing *source* package ‘rRDPData’ ...
** using staged installation
** inst
** help
*** installing help indices
** building package indices
** testing if installed package can be loaded from temporary location
** testing if installed package can be loaded from final location
** testing if installed package keeps a record of temporary installation path
* DONE (rRDPData)

Tests output


Example timings

rRDPData.Rcheck/rRDPData-Ex.timings

nameusersystemelapsed
16S8.4620.6072.798