Back to Build/check report for BioC 3.14 experimental data
ABCDEFGHIJKLMNOPQ[R]STUVWXYZ

This page was generated on 2021-11-24 18:35:27 -0500 (Wed, 24 Nov 2021).

BUILD results for rRDPData on nebbiolo2

To the developers/maintainers of the rRDPData package:
Make sure to use the following settings in order to reproduce any error or warning you see on this page.

raw results

Package 322/408HostnameOS / ArchINSTALLBUILDCHECK
rRDPData 1.14.0  (landing page)
Michael Hahsler
Snapshot Date: 2021-11-24 08:30:01 -0500 (Wed, 24 Nov 2021)
git_url: https://git.bioconductor.org/packages/rRDPData
git_branch: RELEASE_3_14
git_last_commit: 6101824
git_last_commit_date: 2021-10-26 12:11:06 -0500 (Tue, 26 Oct 2021)
nebbiolo2Linux (Ubuntu 20.04.3 LTS) / x86_64  OK    OK    OK  UNNEEDED, same version is already published

Summary

Package: rRDPData
Version: 1.14.0
Command: /home/biocbuild/bbs-3.14-bioc/R/bin/R CMD build --keep-empty-dirs --no-resave-data rRDPData
StartedAt: 2021-11-24 14:44:22 -0500 (Wed, 24 Nov 2021)
EndedAt: 2021-11-24 14:44:35 -0500 (Wed, 24 Nov 2021)
EllapsedTime: 12.8 seconds
RetCode: 0
Status:   OK  
PackageFile: rRDPData_1.14.0.tar.gz
PackageFileSize: 17.27 MiB

Command output

##############################################################################
##############################################################################
###
### Running command:
###
###   /home/biocbuild/bbs-3.14-bioc/R/bin/R CMD build --keep-empty-dirs --no-resave-data rRDPData
###
##############################################################################
##############################################################################


* checking for file ‘rRDPData/DESCRIPTION’ ... OK
* preparing ‘rRDPData’:
* checking DESCRIPTION meta-information ... OK
* checking for LF line-endings in source and make files and shell scripts
* checking for empty or unneeded directories
* building ‘rRDPData_1.14.0.tar.gz’