Back to Build/check report for BioC 3.14 experimental data
ABCDEFGHIJKLMNO[P]QRSTUVWXYZ

This page was generated on 2021-10-21 15:52:03 -0400 (Thu, 21 Oct 2021).

BUILD results for pumadata on nebbiolo2

To the developers/maintainers of the pumadata package:
Make sure to use the following settings in order to reproduce any error or warning you see on this page.

raw results

Package 290/406HostnameOS / ArchINSTALLBUILDCHECK
pumadata 2.29.0  (landing page)
Xuejun liu
Snapshot Date: 2021-10-21 09:30:01 -0400 (Thu, 21 Oct 2021)
git_url: https://git.bioconductor.org/packages/pumadata
git_branch: master
git_last_commit: a1e16c2
git_last_commit_date: 2021-05-19 11:26:20 -0400 (Wed, 19 May 2021)
nebbiolo2Linux (Ubuntu 20.04.2 LTS) / x86_64  OK    OK    OK  UNNEEDED, same version is already published

Summary

Package: pumadata
Version: 2.29.0
Command: /home/biocbuild/bbs-3.14-bioc/R/bin/R CMD build --keep-empty-dirs --no-resave-data pumadata
StartedAt: 2021-10-21 11:31:47 -0400 (Thu, 21 Oct 2021)
EndedAt: 2021-10-21 11:32:24 -0400 (Thu, 21 Oct 2021)
EllapsedTime: 36.8 seconds
RetCode: 0
Status:   OK  
PackageFile: pumadata_2.29.0.tar.gz
PackageFileSize: 101.7 MiB

Command output

##############################################################################
##############################################################################
###
### Running command:
###
###   /home/biocbuild/bbs-3.14-bioc/R/bin/R CMD build --keep-empty-dirs --no-resave-data pumadata
###
##############################################################################
##############################################################################


* checking for file ‘pumadata/DESCRIPTION’ ... OK
* preparing ‘pumadata’:
* checking DESCRIPTION meta-information ... OK
* installing the package to build vignettes
* creating vignettes ... OK
* checking for LF line-endings in source and make files and shell scripts
* checking for empty or unneeded directories
* looking to see if a ‘data/datalist’ file should be added
* building ‘pumadata_2.29.0.tar.gz’