Back to Build/check report for BioC 3.14 experimental data
ABCDEFGHIJKLMNO[P]QRSTUVWXYZ

This page was generated on 2021-12-01 18:35:25 -0500 (Wed, 01 Dec 2021).

INSTALL results for prostateCancerVarambally on nebbiolo2

To the developers/maintainers of the prostateCancerVarambally package:
Make sure to use the following settings in order to reproduce any error or warning you see on this page.

raw results

Package 288/408HostnameOS / ArchINSTALLBUILDCHECK
prostateCancerVarambally 1.22.0  (landing page)
Mark Dunning
Snapshot Date: 2021-12-01 08:30:01 -0500 (Wed, 01 Dec 2021)
git_url: https://git.bioconductor.org/packages/prostateCancerVarambally
git_branch: RELEASE_3_14
git_last_commit: 10f3995
git_last_commit_date: 2021-10-26 12:22:22 -0500 (Tue, 26 Oct 2021)
nebbiolo2Linux (Ubuntu 20.04.3 LTS) / x86_64  OK    OK    WARNINGS  UNNEEDED, same version is already published

Summary

Package: prostateCancerVarambally
Version: 1.22.0
Command: /home/biocbuild/bbs-3.14-bioc/R/bin/R CMD INSTALL prostateCancerVarambally
StartedAt: 2021-12-01 14:00:59 -0500 (Wed, 01 Dec 2021)
EndedAt: 2021-12-01 14:01:05 -0500 (Wed, 01 Dec 2021)
EllapsedTime: 5.4 seconds
RetCode: 0
Status:   OK  

Command output

##############################################################################
##############################################################################
###
### Running command:
###
###   /home/biocbuild/bbs-3.14-bioc/R/bin/R CMD INSTALL prostateCancerVarambally
###
##############################################################################
##############################################################################


* installing to library ‘/home/biocbuild/bbs-3.14-bioc/R/library’
* installing *source* package ‘prostateCancerVarambally’ ...
** using staged installation
** data
*** moving datasets to lazyload DB
** help
*** installing help indices
** building package indices
** installing vignettes
** testing if installed package can be loaded from temporary location
** testing if installed package can be loaded from final location
** testing if installed package keeps a record of temporary installation path
* DONE (prostateCancerVarambally)