Back to Build/check report for BioC 3.14 experimental data
ABCDEFGHIJKLMNO[P]QRSTUVWXYZ

This page was generated on 2021-10-21 15:52:03 -0400 (Thu, 21 Oct 2021).

INSTALL results for prostateCancerCamcap on nebbiolo2

To the developers/maintainers of the prostateCancerCamcap package:
Make sure to use the following settings in order to reproduce any error or warning you see on this page.

raw results

Package 283/406HostnameOS / ArchINSTALLBUILDCHECK
prostateCancerCamcap 1.21.0  (landing page)
Mark Dunning
Snapshot Date: 2021-10-21 09:30:01 -0400 (Thu, 21 Oct 2021)
git_url: https://git.bioconductor.org/packages/prostateCancerCamcap
git_branch: master
git_last_commit: 6f16b7e
git_last_commit_date: 2021-05-19 11:56:12 -0400 (Wed, 19 May 2021)
nebbiolo2Linux (Ubuntu 20.04.2 LTS) / x86_64  OK    OK    WARNINGS  UNNEEDED, same version is already published

Summary

Package: prostateCancerCamcap
Version: 1.21.0
Command: /home/biocbuild/bbs-3.14-bioc/R/bin/R CMD INSTALL prostateCancerCamcap
StartedAt: 2021-10-21 11:00:52 -0400 (Thu, 21 Oct 2021)
EndedAt: 2021-10-21 11:01:11 -0400 (Thu, 21 Oct 2021)
EllapsedTime: 18.7 seconds
RetCode: 0
Status:   OK  

Command output

##############################################################################
##############################################################################
###
### Running command:
###
###   /home/biocbuild/bbs-3.14-bioc/R/bin/R CMD INSTALL prostateCancerCamcap
###
##############################################################################
##############################################################################


* installing to library ‘/home/biocbuild/bbs-3.14-bioc/R/library’
* installing *source* package ‘prostateCancerCamcap’ ...
** using staged installation
** data
*** moving datasets to lazyload DB
** help
*** installing help indices
** building package indices
** installing vignettes
** testing if installed package can be loaded from temporary location
** testing if installed package can be loaded from final location
** testing if installed package keeps a record of temporary installation path
* DONE (prostateCancerCamcap)