Back to Build/check report for BioC 3.14 experimental data
ABCDEFGHIJKLMNO[P]QRSTUVWXYZ

This page was generated on 2021-10-23 15:51:47 -0400 (Sat, 23 Oct 2021).

BUILD results for prostateCancerCamcap on nebbiolo2

To the developers/maintainers of the prostateCancerCamcap package:
Make sure to use the following settings in order to reproduce any error or warning you see on this page.

raw results

Package 284/408HostnameOS / ArchINSTALLBUILDCHECK
prostateCancerCamcap 1.21.0  (landing page)
Mark Dunning
Snapshot Date: 2021-10-23 09:30:01 -0400 (Sat, 23 Oct 2021)
git_url: https://git.bioconductor.org/packages/prostateCancerCamcap
git_branch: master
git_last_commit: 6f16b7e
git_last_commit_date: 2021-05-19 11:56:12 -0400 (Wed, 19 May 2021)
nebbiolo2Linux (Ubuntu 20.04.2 LTS) / x86_64  OK    OK    WARNINGS  UNNEEDED, same version is already published

Summary

Package: prostateCancerCamcap
Version: 1.21.0
Command: /home/biocbuild/bbs-3.14-bioc/R/bin/R CMD build --keep-empty-dirs --no-resave-data prostateCancerCamcap
StartedAt: 2021-10-23 11:32:01 -0400 (Sat, 23 Oct 2021)
EndedAt: 2021-10-23 11:32:25 -0400 (Sat, 23 Oct 2021)
EllapsedTime: 24.1 seconds
RetCode: 0
Status:   OK  
PackageFile: prostateCancerCamcap_1.21.0.tar.gz
PackageFileSize: 46.85 MiB

Command output

##############################################################################
##############################################################################
###
### Running command:
###
###   /home/biocbuild/bbs-3.14-bioc/R/bin/R CMD build --keep-empty-dirs --no-resave-data prostateCancerCamcap
###
##############################################################################
##############################################################################


* checking for file ‘prostateCancerCamcap/DESCRIPTION’ ... OK
* preparing ‘prostateCancerCamcap’:
* checking DESCRIPTION meta-information ... OK
* installing the package to build vignettes
* creating vignettes ... OK
* checking for LF line-endings in source and make files and shell scripts
* checking for empty or unneeded directories
* building ‘prostateCancerCamcap_1.21.0.tar.gz’