Back to Build/check report for BioC 3.14 experimental data
ABCDEFGHIJKLMNO[P]QRSTUVWXYZ

This page was generated on 2021-10-19 15:52:18 -0400 (Tue, 19 Oct 2021).

INSTALL results for ppiData on nebbiolo2

To the developers/maintainers of the ppiData package:
Make sure to use the following settings in order to reproduce any error or warning you see on this page.

raw results

Package 276/404HostnameOS / ArchINSTALLBUILDCHECK
ppiData 0.31.4  (landing page)
Bioconductor Package Maintainer
Snapshot Date: 2021-10-19 09:30:02 -0400 (Tue, 19 Oct 2021)
git_url: https://git.bioconductor.org/packages/ppiData
git_branch: master
git_last_commit: 0be70a2
git_last_commit_date: 2021-09-22 16:53:37 -0400 (Wed, 22 Sep 2021)
nebbiolo2Linux (Ubuntu 20.04.2 LTS) / x86_64  OK    OK    WARNINGS  UNNEEDED, same version is already published

Summary

Package: ppiData
Version: 0.31.4
Command: /home/biocbuild/bbs-3.14-bioc/R/bin/R CMD INSTALL ppiData
StartedAt: 2021-10-19 11:02:01 -0400 (Tue, 19 Oct 2021)
EndedAt: 2021-10-19 11:02:11 -0400 (Tue, 19 Oct 2021)
EllapsedTime: 10.3 seconds
RetCode: 0
Status:   OK  

Command output

##############################################################################
##############################################################################
###
### Running command:
###
###   /home/biocbuild/bbs-3.14-bioc/R/bin/R CMD INSTALL ppiData
###
##############################################################################
##############################################################################


* installing to library ‘/home/biocbuild/bbs-3.14-bioc/R/library’
* installing *source* package ‘ppiData’ ...
** using staged installation
** R
** data
** inst
** byte-compile and prepare package for lazy loading
** help
*** installing help indices
** building package indices
** installing vignettes
** testing if installed package can be loaded from temporary location
** testing if installed package can be loaded from final location
** testing if installed package keeps a record of temporary installation path
* DONE (ppiData)