Index of /checkResults/3.14/data-experiment-LATEST/plotgardenerData/raw-results/nebbiolo2

[ICO]NameLast modifiedSizeDescription

[DIR]Parent Directory  -  
[TXT]buildsrc-out.txt20-Jan-2022 04:50 904  
[   ]buildsrc-summary.dcf20-Jan-2022 04:50 441  
[TXT]checksrc-out.txt20-Jan-2022 04:50 3.1K 
[   ]checksrc-summary.dcf20-Jan-2022 04:50 457  
[TXT]install-out.txt20-Jan-2022 04:50 1.0K 
[   ]install-summary.dcf20-Jan-2022 04:50 275