Back to Build/check report for BioC 3.14 experimental data
ABCDEFGHIJKLMNO[P]QRSTUVWXYZ

This page was generated on 2021-10-26 15:52:19 -0400 (Tue, 26 Oct 2021).

INSTALL results for plotgardenerData on nebbiolo2

To the developers/maintainers of the plotgardenerData package:
Make sure to use the following settings in order to reproduce any error or warning you see on this page.

raw results

Package 277/408HostnameOS / ArchINSTALLBUILDCHECK
plotgardenerData 0.99.7  (landing page)
Nicole Kramer
Snapshot Date: 2021-10-26 09:30:02 -0400 (Tue, 26 Oct 2021)
git_url: https://git.bioconductor.org/packages/plotgardenerData
git_branch: master
git_last_commit: 85ff325
git_last_commit_date: 2021-08-18 21:01:41 -0400 (Wed, 18 Aug 2021)
nebbiolo2Linux (Ubuntu 20.04.2 LTS) / x86_64  OK    OK    OK  UNNEEDED, same version is already published

Summary

Package: plotgardenerData
Version: 0.99.7
Command: /home/biocbuild/bbs-3.14-bioc/R/bin/R CMD INSTALL plotgardenerData
StartedAt: 2021-10-26 11:00:53 -0400 (Tue, 26 Oct 2021)
EndedAt: 2021-10-26 11:00:54 -0400 (Tue, 26 Oct 2021)
EllapsedTime: 1.6 seconds
RetCode: 0
Status:   OK  

Command output

##############################################################################
##############################################################################
###
### Running command:
###
###   /home/biocbuild/bbs-3.14-bioc/R/bin/R CMD INSTALL plotgardenerData
###
##############################################################################
##############################################################################


* installing to library ‘/home/biocbuild/bbs-3.14-bioc/R/library’
* installing *source* package ‘plotgardenerData’ ...
** using staged installation
** R
** data
** inst
** byte-compile and prepare package for lazy loading
** help
*** installing help indices
** building package indices
** installing vignettes
** testing if installed package can be loaded from temporary location
** testing if installed package can be loaded from final location
** testing if installed package keeps a record of temporary installation path
* DONE (plotgardenerData)