Back to Build/check report for BioC 3.14 experimental data
ABCDEFGHIJKLMNO[P]QRSTUVWXYZ

This page was generated on 2021-10-16 15:51:46 -0400 (Sat, 16 Oct 2021).

BUILD results for plotgardenerData on nebbiolo2

To the developers/maintainers of the plotgardenerData package:
Make sure to use the following settings in order to reproduce any error or warning you see on this page.

raw results

Package 275/404HostnameOS / ArchINSTALLBUILDCHECK
plotgardenerData 0.99.7  (landing page)
Nicole Kramer
Snapshot Date: 2021-10-16 09:30:02 -0400 (Sat, 16 Oct 2021)
git_url: https://git.bioconductor.org/packages/plotgardenerData
git_branch: master
git_last_commit: 85ff325
git_last_commit_date: 2021-08-18 21:01:41 -0400 (Wed, 18 Aug 2021)
nebbiolo2Linux (Ubuntu 20.04.2 LTS) / x86_64  OK    OK    OK  UNNEEDED, same version is already published

Summary

Package: plotgardenerData
Version: 0.99.7
Command: /home/biocbuild/bbs-3.14-bioc/R/bin/R CMD build --keep-empty-dirs --no-resave-data plotgardenerData
StartedAt: 2021-10-16 11:29:46 -0400 (Sat, 16 Oct 2021)
EndedAt: 2021-10-16 11:29:48 -0400 (Sat, 16 Oct 2021)
EllapsedTime: 2.7 seconds
RetCode: 0
Status:   OK  
PackageFile: plotgardenerData_0.99.7.tar.gz
PackageFileSize: 2.387 MiB

Command output

##############################################################################
##############################################################################
###
### Running command:
###
###   /home/biocbuild/bbs-3.14-bioc/R/bin/R CMD build --keep-empty-dirs --no-resave-data plotgardenerData
###
##############################################################################
##############################################################################


* checking for file ‘plotgardenerData/DESCRIPTION’ ... OK
* preparing ‘plotgardenerData’:
* checking DESCRIPTION meta-information ... OK
* installing the package to build vignettes
* creating vignettes ... OK
* checking for LF line-endings in source and make files and shell scripts
* checking for empty or unneeded directories
* looking to see if a ‘data/datalist’ file should be added
* building ‘plotgardenerData_0.99.7.tar.gz’