Back to Build/check report for BioC 3.14 experimental data
ABCDEFGHIJKLMNO[P]QRSTUVWXYZ

This page was generated on 2021-10-23 15:51:46 -0400 (Sat, 23 Oct 2021).

All results for package plotgardenerData

To the developers/maintainers of the plotgardenerData package:
Make sure to use the following settings in order to reproduce any error or warning you see on this page.

raw results

Package 277/408HostnameOS / ArchINSTALLBUILDCHECK
plotgardenerData 0.99.7  (landing page)
Nicole Kramer
Snapshot Date: 2021-10-23 09:30:01 -0400 (Sat, 23 Oct 2021)
git_url: https://git.bioconductor.org/packages/plotgardenerData
git_branch: master
git_last_commit: 85ff325
git_last_commit_date: 2021-08-18 21:01:41 -0400 (Wed, 18 Aug 2021)
nebbiolo2Linux (Ubuntu 20.04.2 LTS) / x86_64  OK    OK    OK  UNNEEDED, same version is already published