Back to Build/check report for BioC 3.14 experimental data
ABCDEFGHIJKLMNO[P]QRSTUVWXYZ

This page was generated on 2021-10-19 15:52:17 -0400 (Tue, 19 Oct 2021).

All results for package pd.atdschip.tiling

To the developers/maintainers of the pd.atdschip.tiling package:
Make sure to use the following settings in order to reproduce any error or warning you see on this page.

raw results

Package 270/404HostnameOS / ArchINSTALLBUILDCHECK
pd.atdschip.tiling 0.31.0  (landing page)
Kristof De Beuf
Snapshot Date: 2021-10-19 09:30:02 -0400 (Tue, 19 Oct 2021)
git_url: https://git.bioconductor.org/packages/pd.atdschip.tiling
git_branch: master
git_last_commit: 5e1cb43
git_last_commit_date: 2021-05-19 11:35:26 -0400 (Wed, 19 May 2021)
nebbiolo2Linux (Ubuntu 20.04.2 LTS) / x86_64  OK    OK    WARNINGS  UNNEEDED, same version is already published