Back to Build/check report for BioC 3.14 experimental data
ABCDEFGHIJKLMNO[P]QRSTUVWXYZ

This page was generated on 2021-10-23 15:51:47 -0400 (Sat, 23 Oct 2021).

BUILD results for pasillaBamSubset on nebbiolo2

To the developers/maintainers of the pasillaBamSubset package:
Make sure to use the following settings in order to reproduce any error or warning you see on this page.

raw results

Package 267/408HostnameOS / ArchINSTALLBUILDCHECK
pasillaBamSubset 0.31.0  (landing page)
Hervé Pagès
Snapshot Date: 2021-10-23 09:30:01 -0400 (Sat, 23 Oct 2021)
git_url: https://git.bioconductor.org/packages/pasillaBamSubset
git_branch: master
git_last_commit: 8625ec0
git_last_commit_date: 2021-05-19 11:34:02 -0400 (Wed, 19 May 2021)
nebbiolo2Linux (Ubuntu 20.04.2 LTS) / x86_64  OK    OK    OK  UNNEEDED, same version is already published

Summary

Package: pasillaBamSubset
Version: 0.31.0
Command: /home/biocbuild/bbs-3.14-bioc/R/bin/R CMD build --keep-empty-dirs --no-resave-data pasillaBamSubset
StartedAt: 2021-10-23 11:31:07 -0400 (Sat, 23 Oct 2021)
EndedAt: 2021-10-23 11:31:08 -0400 (Sat, 23 Oct 2021)
EllapsedTime: 1.7 seconds
RetCode: 0
Status:   OK  
PackageFile: pasillaBamSubset_0.31.0.tar.gz
PackageFileSize: 15.01 MiB

Command output

##############################################################################
##############################################################################
###
### Running command:
###
###   /home/biocbuild/bbs-3.14-bioc/R/bin/R CMD build --keep-empty-dirs --no-resave-data pasillaBamSubset
###
##############################################################################
##############################################################################


* checking for file ‘pasillaBamSubset/DESCRIPTION’ ... OK
* preparing ‘pasillaBamSubset’:
* checking DESCRIPTION meta-information ... OK
* checking for LF line-endings in source and make files and shell scripts
* checking for empty or unneeded directories
* building ‘pasillaBamSubset_0.31.0.tar.gz’