Back to Build/check report for BioC 3.14 experimental data
ABCDEFGHIJKLMNO[P]QRSTUVWXYZ

This page was generated on 2021-10-23 15:51:47 -0400 (Sat, 23 Oct 2021).

BUILD results for parathyroidSE on nebbiolo2

To the developers/maintainers of the parathyroidSE package:
Make sure to use the following settings in order to reproduce any error or warning you see on this page.

raw results

Package 265/408HostnameOS / ArchINSTALLBUILDCHECK
parathyroidSE 1.31.0  (landing page)
Michael Love
Snapshot Date: 2021-10-23 09:30:01 -0400 (Sat, 23 Oct 2021)
git_url: https://git.bioconductor.org/packages/parathyroidSE
git_branch: master
git_last_commit: e2f5ab0
git_last_commit_date: 2021-05-19 11:39:14 -0400 (Wed, 19 May 2021)
nebbiolo2Linux (Ubuntu 20.04.2 LTS) / x86_64  OK    OK    OK  UNNEEDED, same version is already published

Summary

Package: parathyroidSE
Version: 1.31.0
Command: /home/biocbuild/bbs-3.14-bioc/R/bin/R CMD build --keep-empty-dirs --no-resave-data parathyroidSE
StartedAt: 2021-10-23 11:30:56 -0400 (Sat, 23 Oct 2021)
EndedAt: 2021-10-23 11:31:20 -0400 (Sat, 23 Oct 2021)
EllapsedTime: 23.6 seconds
RetCode: 0
Status:   OK  
PackageFile: parathyroidSE_1.31.0.tar.gz
PackageFileSize: 21.24 MiB

Command output

##############################################################################
##############################################################################
###
### Running command:
###
###   /home/biocbuild/bbs-3.14-bioc/R/bin/R CMD build --keep-empty-dirs --no-resave-data parathyroidSE
###
##############################################################################
##############################################################################


* checking for file ‘parathyroidSE/DESCRIPTION’ ... OK
* preparing ‘parathyroidSE’:
* checking DESCRIPTION meta-information ... OK
* installing the package to build vignettes
* creating vignettes ... OK
* checking for LF line-endings in source and make files and shell scripts
* checking for empty or unneeded directories
* looking to see if a ‘data/datalist’ file should be added
* building ‘parathyroidSE_1.31.0.tar.gz’