Back to Build/check report for BioC 3.14 experimental data
ABCDEFGHIJKLMNO[P]QRSTUVWXYZ

This page was generated on 2021-10-19 15:52:18 -0400 (Tue, 19 Oct 2021).

BUILD results for pRolocdata on nebbiolo2

To the developers/maintainers of the pRolocdata package:
Make sure to use the following settings in order to reproduce any error or warning you see on this page.

raw results

Package 281/404HostnameOS / ArchINSTALLBUILDCHECK
pRolocdata 1.31.0  (landing page)
Laurent Gatto
Snapshot Date: 2021-10-19 09:30:02 -0400 (Tue, 19 Oct 2021)
git_url: https://git.bioconductor.org/packages/pRolocdata
git_branch: master
git_last_commit: 0c25706
git_last_commit_date: 2021-05-19 11:38:43 -0400 (Wed, 19 May 2021)
nebbiolo2Linux (Ubuntu 20.04.2 LTS) / x86_64  OK    OK    OK  UNNEEDED, same version is already published

Summary

Package: pRolocdata
Version: 1.31.0
Command: /home/biocbuild/bbs-3.14-bioc/R/bin/R CMD build --keep-empty-dirs --no-resave-data pRolocdata
StartedAt: 2021-10-19 11:31:21 -0400 (Tue, 19 Oct 2021)
EndedAt: 2021-10-19 11:31:57 -0400 (Tue, 19 Oct 2021)
EllapsedTime: 36.4 seconds
RetCode: 0
Status:   OK  
PackageFile: pRolocdata_1.31.0.tar.gz
PackageFileSize: 245.2 MiB

Command output

##############################################################################
##############################################################################
###
### Running command:
###
###   /home/biocbuild/bbs-3.14-bioc/R/bin/R CMD build --keep-empty-dirs --no-resave-data pRolocdata
###
##############################################################################
##############################################################################


* checking for file ‘pRolocdata/DESCRIPTION’ ... OK
* preparing ‘pRolocdata’:
* checking DESCRIPTION meta-information ... OK
* checking for LF line-endings in source and make files and shell scripts
* checking for empty or unneeded directories
* looking to see if a ‘data/datalist’ file should be added
* building ‘pRolocdata_1.31.0.tar.gz’