Back to Build/check report for BioC 3.14 experimental data
ABCDEFGHIJKLMN[O]PQRSTUVWXYZ

This page was generated on 2021-10-19 15:52:18 -0400 (Tue, 19 Oct 2021).

BUILD results for optimalFlowData on nebbiolo2

To the developers/maintainers of the optimalFlowData package:
Make sure to use the following settings in order to reproduce any error or warning you see on this page.

raw results

Package 262/404HostnameOS / ArchINSTALLBUILDCHECK
optimalFlowData 1.5.0  (landing page)
Hristo Inouzhe
Snapshot Date: 2021-10-19 09:30:02 -0400 (Tue, 19 Oct 2021)
git_url: https://git.bioconductor.org/packages/optimalFlowData
git_branch: master
git_last_commit: ddd1211
git_last_commit_date: 2021-05-19 12:10:20 -0400 (Wed, 19 May 2021)
nebbiolo2Linux (Ubuntu 20.04.2 LTS) / x86_64  OK    OK    WARNINGS  UNNEEDED, same version is already published

Summary

Package: optimalFlowData
Version: 1.5.0
Command: /home/biocbuild/bbs-3.14-bioc/R/bin/R CMD build --keep-empty-dirs --no-resave-data optimalFlowData
StartedAt: 2021-10-19 11:30:23 -0400 (Tue, 19 Oct 2021)
EndedAt: 2021-10-19 11:31:32 -0400 (Tue, 19 Oct 2021)
EllapsedTime: 69.5 seconds
RetCode: 0
Status:   OK  
PackageFile: optimalFlowData_1.5.0.tar.gz
PackageFileSize: 75.85 MiB

Command output

##############################################################################
##############################################################################
###
### Running command:
###
###   /home/biocbuild/bbs-3.14-bioc/R/bin/R CMD build --keep-empty-dirs --no-resave-data optimalFlowData
###
##############################################################################
##############################################################################


* checking for file ‘optimalFlowData/DESCRIPTION’ ... OK
* preparing ‘optimalFlowData’:
* checking DESCRIPTION meta-information ... OK
* installing the package to build vignettes
* creating vignettes ... OK
* checking for LF line-endings in source and make files and shell scripts
* checking for empty or unneeded directories
* building ‘optimalFlowData_1.5.0.tar.gz’