Back to Build/check report for BioC 3.14 experimental data
ABCDEFGHIJKLMN[O]PQRSTUVWXYZ

This page was generated on 2021-10-26 15:52:18 -0400 (Tue, 26 Oct 2021).

BUILD results for oct4 on nebbiolo2

To the developers/maintainers of the oct4 package:
Make sure to use the following settings in order to reproduce any error or warning you see on this page.

raw results

Package 261/408HostnameOS / ArchINSTALLBUILDCHECK
oct4 1.9.0  (landing page)
Michael Love
Snapshot Date: 2021-10-26 09:30:02 -0400 (Tue, 26 Oct 2021)
git_url: https://git.bioconductor.org/packages/oct4
git_branch: master
git_last_commit: c9ec7ec
git_last_commit_date: 2021-05-19 12:07:49 -0400 (Wed, 19 May 2021)
nebbiolo2Linux (Ubuntu 20.04.2 LTS) / x86_64  OK    OK    OK  UNNEEDED, same version is already published

Summary

Package: oct4
Version: 1.9.0
Command: /home/biocbuild/bbs-3.14-bioc/R/bin/R CMD build --keep-empty-dirs --no-resave-data oct4
StartedAt: 2021-10-26 11:32:08 -0400 (Tue, 26 Oct 2021)
EndedAt: 2021-10-26 11:32:21 -0400 (Tue, 26 Oct 2021)
EllapsedTime: 13.2 seconds
RetCode: 0
Status:   OK  
PackageFile: oct4_1.9.0.tar.gz
PackageFileSize: 192.9 MiB

Command output

##############################################################################
##############################################################################
###
### Running command:
###
###   /home/biocbuild/bbs-3.14-bioc/R/bin/R CMD build --keep-empty-dirs --no-resave-data oct4
###
##############################################################################
##############################################################################


* checking for file ‘oct4/DESCRIPTION’ ... OK
* preparing ‘oct4’:
* checking DESCRIPTION meta-information ... OK
* installing the package to build vignettes
* creating vignettes ... OK
* checking for LF line-endings in source and make files and shell scripts
* checking for empty or unneeded directories
* building ‘oct4_1.9.0.tar.gz’