Back to Build/check report for BioC 3.14 experimental data
ABCDEFGHIJKL[M]NOPQRSTUVWXYZ

This page was generated on 2021-10-16 15:51:46 -0400 (Sat, 16 Oct 2021).

BUILD results for mvoutData on nebbiolo2

To the developers/maintainers of the mvoutData package:
Make sure to use the following settings in order to reproduce any error or warning you see on this page.

raw results

Package 250/404HostnameOS / ArchINSTALLBUILDCHECK
mvoutData 1.29.0  (landing page)
VJ Carey
Snapshot Date: 2021-10-16 09:30:02 -0400 (Sat, 16 Oct 2021)
git_url: https://git.bioconductor.org/packages/mvoutData
git_branch: master
git_last_commit: 27a5251
git_last_commit_date: 2021-05-19 11:29:50 -0400 (Wed, 19 May 2021)
nebbiolo2Linux (Ubuntu 20.04.2 LTS) / x86_64  OK    OK    OK  UNNEEDED, same version is already published

Summary

Package: mvoutData
Version: 1.29.0
Command: /home/biocbuild/bbs-3.14-bioc/R/bin/R CMD build --keep-empty-dirs --no-resave-data mvoutData
StartedAt: 2021-10-16 11:28:26 -0400 (Sat, 16 Oct 2021)
EndedAt: 2021-10-16 11:28:28 -0400 (Sat, 16 Oct 2021)
EllapsedTime: 2.6 seconds
RetCode: 0
Status:   OK  
PackageFile: mvoutData_1.29.0.tar.gz
PackageFileSize: 14.19 MiB

Command output

##############################################################################
##############################################################################
###
### Running command:
###
###   /home/biocbuild/bbs-3.14-bioc/R/bin/R CMD build --keep-empty-dirs --no-resave-data mvoutData
###
##############################################################################
##############################################################################


* checking for file ‘mvoutData/DESCRIPTION’ ... OK
* preparing ‘mvoutData’:
* checking DESCRIPTION meta-information ... OK
* checking for LF line-endings in source and make files and shell scripts
* checking for empty or unneeded directories
* looking to see if a ‘data/datalist’ file should be added
* building ‘mvoutData_1.29.0.tar.gz’