Back to Build/check report for BioC 3.14 experimental data
ABCDEFGHIJKL[M]NOPQRSTUVWXYZ

This page was generated on 2021-10-23 15:51:47 -0400 (Sat, 23 Oct 2021).

BUILD results for msqc1 on nebbiolo2

To the developers/maintainers of the msqc1 package:
Make sure to use the following settings in order to reproduce any error or warning you see on this page.

raw results

Package 246/408HostnameOS / ArchINSTALLBUILDCHECK
msqc1 1.21.1  (landing page)
Christian Panse
Snapshot Date: 2021-10-23 09:30:01 -0400 (Sat, 23 Oct 2021)
git_url: https://git.bioconductor.org/packages/msqc1
git_branch: master
git_last_commit: 6e98a22
git_last_commit_date: 2021-06-29 11:15:14 -0400 (Tue, 29 Jun 2021)
nebbiolo2Linux (Ubuntu 20.04.2 LTS) / x86_64  OK    OK    OK  UNNEEDED, same version is already published

Summary

Package: msqc1
Version: 1.21.1
Command: /home/biocbuild/bbs-3.14-bioc/R/bin/R CMD build --keep-empty-dirs --no-resave-data msqc1
StartedAt: 2021-10-23 11:29:44 -0400 (Sat, 23 Oct 2021)
EndedAt: 2021-10-23 11:30:23 -0400 (Sat, 23 Oct 2021)
EllapsedTime: 39.0 seconds
RetCode: 0
Status:   OK  
PackageFile: msqc1_1.21.1.tar.gz
PackageFileSize: 6.468 MiB

Command output

##############################################################################
##############################################################################
###
### Running command:
###
###   /home/biocbuild/bbs-3.14-bioc/R/bin/R CMD build --keep-empty-dirs --no-resave-data msqc1
###
##############################################################################
##############################################################################


* checking for file ‘msqc1/DESCRIPTION’ ... OK
* preparing ‘msqc1’:
* checking DESCRIPTION meta-information ... OK
* installing the package to process help pages
* saving partial Rd database
* creating vignettes ... OK
* checking for LF line-endings in source and make files and shell scripts
* checking for empty or unneeded directories
* building ‘msqc1_1.21.1.tar.gz’