Back to Build/check report for BioC 3.14 experimental data
ABCDEFGHIJKL[M]NOPQRSTUVWXYZ

This page was generated on 2021-10-23 15:51:47 -0400 (Sat, 23 Oct 2021).

INSTALL results for msigdb on nebbiolo2

To the developers/maintainers of the msigdb package:
Make sure to use the following settings in order to reproduce any error or warning you see on this page.

raw results

Package 243/408HostnameOS / ArchINSTALLBUILDCHECK
msigdb 1.1.5  (landing page)
Dharmesh D. Bhuva
Snapshot Date: 2021-10-23 09:30:01 -0400 (Sat, 23 Oct 2021)
git_url: https://git.bioconductor.org/packages/msigdb
git_branch: master
git_last_commit: 57f15b7
git_last_commit_date: 2021-10-12 16:25:19 -0400 (Tue, 12 Oct 2021)
nebbiolo2Linux (Ubuntu 20.04.2 LTS) / x86_64  OK    OK    WARNINGS  UNNEEDED, same version is already published

Summary

Package: msigdb
Version: 1.1.5
Command: /home/biocbuild/bbs-3.14-bioc/R/bin/R CMD INSTALL msigdb
StartedAt: 2021-10-23 11:05:01 -0400 (Sat, 23 Oct 2021)
EndedAt: 2021-10-23 11:05:02 -0400 (Sat, 23 Oct 2021)
EllapsedTime: 1.4 seconds
RetCode: 0
Status:   OK  

Command output

##############################################################################
##############################################################################
###
### Running command:
###
###   /home/biocbuild/bbs-3.14-bioc/R/bin/R CMD INSTALL msigdb
###
##############################################################################
##############################################################################


* installing to library ‘/home/biocbuild/bbs-3.14-bioc/R/library’
* installing *source* package ‘msigdb’ ...
** using staged installation
** R
** inst
** byte-compile and prepare package for lazy loading
** help
*** installing help indices
** building package indices
** installing vignettes
** testing if installed package can be loaded from temporary location
** testing if installed package can be loaded from final location
** testing if installed package keeps a record of temporary installation path
* DONE (msigdb)