Back to Build/check report for BioC 3.14 experimental data
ABCDEFGHIJKL[M]NOPQRSTUVWXYZ

This page was generated on 2021-10-26 15:52:18 -0400 (Tue, 26 Oct 2021).

BUILD results for msigdb on nebbiolo2

To the developers/maintainers of the msigdb package:
Make sure to use the following settings in order to reproduce any error or warning you see on this page.

raw results

Package 243/408HostnameOS / ArchINSTALLBUILDCHECK
msigdb 1.1.5  (landing page)
Dharmesh D. Bhuva
Snapshot Date: 2021-10-26 09:30:02 -0400 (Tue, 26 Oct 2021)
git_url: https://git.bioconductor.org/packages/msigdb
git_branch: master
git_last_commit: 57f15b7
git_last_commit_date: 2021-10-12 16:25:19 -0400 (Tue, 12 Oct 2021)
nebbiolo2Linux (Ubuntu 20.04.2 LTS) / x86_64  OK    OK    WARNINGS  UNNEEDED, same version is already published

Summary

Package: msigdb
Version: 1.1.5
Command: /home/biocbuild/bbs-3.14-bioc/R/bin/R CMD build --keep-empty-dirs --no-resave-data msigdb
StartedAt: 2021-10-26 11:30:58 -0400 (Tue, 26 Oct 2021)
EndedAt: 2021-10-26 11:32:12 -0400 (Tue, 26 Oct 2021)
EllapsedTime: 74.4 seconds
RetCode: 0
Status:   OK  
PackageFile: msigdb_1.1.5.tar.gz
PackageFileSize: 291 KiB

Command output

##############################################################################
##############################################################################
###
### Running command:
###
###   /home/biocbuild/bbs-3.14-bioc/R/bin/R CMD build --keep-empty-dirs --no-resave-data msigdb
###
##############################################################################
##############################################################################


* checking for file ‘msigdb/DESCRIPTION’ ... OK
* preparing ‘msigdb’:
* checking DESCRIPTION meta-information ... OK
* installing the package to build vignettes
* creating vignettes ... OK
* checking for LF line-endings in source and make files and shell scripts
* checking for empty or unneeded directories
* looking to see if a ‘data/datalist’ file should be added
* building ‘msigdb_1.1.5.tar.gz’