Back to Build/check report for BioC 3.14 experimental data
ABCDEFGHIJKL[M]NOPQRSTUVWXYZ

This page was generated on 2021-10-23 15:51:46 -0400 (Sat, 23 Oct 2021).

All results for package msigdb

To the developers/maintainers of the msigdb package:
Make sure to use the following settings in order to reproduce any error or warning you see on this page.

raw results

Package 243/408HostnameOS / ArchINSTALLBUILDCHECK
msigdb 1.1.5  (landing page)
Dharmesh D. Bhuva
Snapshot Date: 2021-10-23 09:30:01 -0400 (Sat, 23 Oct 2021)
git_url: https://git.bioconductor.org/packages/msigdb
git_branch: master
git_last_commit: 57f15b7
git_last_commit_date: 2021-10-12 16:25:19 -0400 (Tue, 12 Oct 2021)
nebbiolo2Linux (Ubuntu 20.04.2 LTS) / x86_64  OK    OK    WARNINGS  UNNEEDED, same version is already published