Back to Build/check report for BioC 3.14 experimental data
ABCDEFGHIJKL[M]NOPQRSTUVWXYZ

This page was generated on 2021-10-21 15:52:03 -0400 (Thu, 21 Oct 2021).

BUILD results for msdata on nebbiolo2

To the developers/maintainers of the msdata package:
Make sure to use the following settings in order to reproduce any error or warning you see on this page.

raw results

Package 241/406HostnameOS / ArchINSTALLBUILDCHECK
msdata 0.33.2  (landing page)
Steffen Neumann , Laurent Gatto
Snapshot Date: 2021-10-21 09:30:01 -0400 (Thu, 21 Oct 2021)
git_url: https://git.bioconductor.org/packages/msdata
git_branch: master
git_last_commit: a386daf
git_last_commit_date: 2021-10-11 04:06:38 -0400 (Mon, 11 Oct 2021)
nebbiolo2Linux (Ubuntu 20.04.2 LTS) / x86_64  OK    OK    OK  UNNEEDED, same version is already published

Summary

Package: msdata
Version: 0.33.2
Command: /home/biocbuild/bbs-3.14-bioc/R/bin/R CMD build --keep-empty-dirs --no-resave-data msdata
StartedAt: 2021-10-21 11:29:04 -0400 (Thu, 21 Oct 2021)
EndedAt: 2021-10-21 11:29:50 -0400 (Thu, 21 Oct 2021)
EllapsedTime: 45.9 seconds
RetCode: 0
Status:   OK  
PackageFile: msdata_0.33.2.tar.gz
PackageFileSize: 433.8 MiB

Command output

##############################################################################
##############################################################################
###
### Running command:
###
###   /home/biocbuild/bbs-3.14-bioc/R/bin/R CMD build --keep-empty-dirs --no-resave-data msdata
###
##############################################################################
##############################################################################


* checking for file ‘msdata/DESCRIPTION’ ... OK
* preparing ‘msdata’:
* checking DESCRIPTION meta-information ... OK
* checking for LF line-endings in source and make files and shell scripts
* checking for empty or unneeded directories
* looking to see if a ‘data/datalist’ file should be added
* building ‘msdata_0.33.2.tar.gz’