Back to Build/check report for BioC 3.14 experimental data
ABCDEFGHIJKL[M]NOPQRSTUVWXYZ

This page was generated on 2021-12-01 18:35:25 -0500 (Wed, 01 Dec 2021).

INSTALL results for msd16s on nebbiolo2

To the developers/maintainers of the msd16s package:
Make sure to use the following settings in order to reproduce any error or warning you see on this page.

raw results

Package 241/408HostnameOS / ArchINSTALLBUILDCHECK
msd16s 1.14.0  (landing page)
Joseph N. Paulson
Snapshot Date: 2021-12-01 08:30:01 -0500 (Wed, 01 Dec 2021)
git_url: https://git.bioconductor.org/packages/msd16s
git_branch: RELEASE_3_14
git_last_commit: da1ffb5
git_last_commit_date: 2021-10-26 12:09:33 -0500 (Tue, 26 Oct 2021)
nebbiolo2Linux (Ubuntu 20.04.3 LTS) / x86_64  OK    OK    OK  UNNEEDED, same version is already published

Summary

Package: msd16s
Version: 1.14.0
Command: /home/biocbuild/bbs-3.14-bioc/R/bin/R CMD INSTALL msd16s
StartedAt: 2021-12-01 14:02:32 -0500 (Wed, 01 Dec 2021)
EndedAt: 2021-12-01 14:02:40 -0500 (Wed, 01 Dec 2021)
EllapsedTime: 7.1 seconds
RetCode: 0
Status:   OK  

Command output

##############################################################################
##############################################################################
###
### Running command:
###
###   /home/biocbuild/bbs-3.14-bioc/R/bin/R CMD INSTALL msd16s
###
##############################################################################
##############################################################################


* installing to library ‘/home/biocbuild/bbs-3.14-bioc/R/library’
* installing *source* package ‘msd16s’ ...
** using staged installation
** data
*** moving datasets to lazyload DB
** inst
** help
*** installing help indices
** building package indices
** installing vignettes
** testing if installed package can be loaded from temporary location
** testing if installed package can be loaded from final location
** testing if installed package keeps a record of temporary installation path
* DONE (msd16s)