Back to Build/check report for BioC 3.14 experimental data
ABCDEFGHIJKL[M]NOPQRSTUVWXYZ

This page was generated on 2021-10-26 15:52:18 -0400 (Tue, 26 Oct 2021).

BUILD results for msd16s on nebbiolo2

To the developers/maintainers of the msd16s package:
Make sure to use the following settings in order to reproduce any error or warning you see on this page.

raw results

Package 241/408HostnameOS / ArchINSTALLBUILDCHECK
msd16s 1.13.0  (landing page)
Joseph N. Paulson
Snapshot Date: 2021-10-26 09:30:02 -0400 (Tue, 26 Oct 2021)
git_url: https://git.bioconductor.org/packages/msd16s
git_branch: master
git_last_commit: 538bac7
git_last_commit_date: 2021-05-19 11:47:28 -0400 (Wed, 19 May 2021)
nebbiolo2Linux (Ubuntu 20.04.2 LTS) / x86_64  OK    OK    OK  UNNEEDED, same version is already published

Summary

Package: msd16s
Version: 1.13.0
Command: /home/biocbuild/bbs-3.14-bioc/R/bin/R CMD build --keep-empty-dirs --no-resave-data msd16s
StartedAt: 2021-10-26 11:30:53 -0400 (Tue, 26 Oct 2021)
EndedAt: 2021-10-26 11:31:05 -0400 (Tue, 26 Oct 2021)
EllapsedTime: 11.8 seconds
RetCode: 0
Status:   OK  
PackageFile: msd16s_1.13.0.tar.gz
PackageFileSize: 1.755 MiB

Command output

##############################################################################
##############################################################################
###
### Running command:
###
###   /home/biocbuild/bbs-3.14-bioc/R/bin/R CMD build --keep-empty-dirs --no-resave-data msd16s
###
##############################################################################
##############################################################################


* checking for file ‘msd16s/DESCRIPTION’ ... OK
* preparing ‘msd16s’:
* checking DESCRIPTION meta-information ... OK
* installing the package to build vignettes
* creating vignettes ... OK
* checking for LF line-endings in source and make files and shell scripts
* checking for empty or unneeded directories
* building ‘msd16s_1.13.0.tar.gz’