Back to Build/check report for BioC 3.14 experimental data
ABCDEFGHIJKL[M]NOPQRSTUVWXYZ

This page was generated on 2021-10-16 15:51:46 -0400 (Sat, 16 Oct 2021).

BUILD results for mouse4302barcodevecs on nebbiolo2

To the developers/maintainers of the mouse4302barcodevecs package:
Make sure to use the following settings in order to reproduce any error or warning you see on this page.

raw results

Package 237/404HostnameOS / ArchINSTALLBUILDCHECK
mouse4302barcodevecs 1.31.0  (landing page)
Matthew N. McCall
Snapshot Date: 2021-10-16 09:30:02 -0400 (Sat, 16 Oct 2021)
git_url: https://git.bioconductor.org/packages/mouse4302barcodevecs
git_branch: master
git_last_commit: 71e486b
git_last_commit_date: 2021-05-19 11:30:22 -0400 (Wed, 19 May 2021)
nebbiolo2Linux (Ubuntu 20.04.2 LTS) / x86_64  OK    OK    OK  UNNEEDED, same version is already published

Summary

Package: mouse4302barcodevecs
Version: 1.31.0
Command: /home/biocbuild/bbs-3.14-bioc/R/bin/R CMD build --keep-empty-dirs --no-resave-data mouse4302barcodevecs
StartedAt: 2021-10-16 11:27:56 -0400 (Sat, 16 Oct 2021)
EndedAt: 2021-10-16 11:27:57 -0400 (Sat, 16 Oct 2021)
EllapsedTime: 0.4 seconds
RetCode: 0
Status:   OK  
PackageFile: mouse4302barcodevecs_1.31.0.tar.gz
PackageFileSize: 1021 KiB

Command output

##############################################################################
##############################################################################
###
### Running command:
###
###   /home/biocbuild/bbs-3.14-bioc/R/bin/R CMD build --keep-empty-dirs --no-resave-data mouse4302barcodevecs
###
##############################################################################
##############################################################################


* checking for file ‘mouse4302barcodevecs/DESCRIPTION’ ... OK
* preparing ‘mouse4302barcodevecs’:
* checking DESCRIPTION meta-information ... OK
* checking for LF line-endings in source and make files and shell scripts
* checking for empty or unneeded directories
* looking to see if a ‘data/datalist’ file should be added
* building ‘mouse4302barcodevecs_1.31.0.tar.gz’