Back to Build/check report for BioC 3.14 experimental data
ABCDEFGHIJKL[M]NOPQRSTUVWXYZ

This page was generated on 2021-10-26 15:52:18 -0400 (Tue, 26 Oct 2021).

INSTALL results for minfiDataEPIC on nebbiolo2

To the developers/maintainers of the minfiDataEPIC package:
Make sure to use the following settings in order to reproduce any error or warning you see on this page.

raw results

Package 230/408HostnameOS / ArchINSTALLBUILDCHECK
minfiDataEPIC 1.19.0  (landing page)
Kasper Daniel Hansen
Snapshot Date: 2021-10-26 09:30:02 -0400 (Tue, 26 Oct 2021)
git_url: https://git.bioconductor.org/packages/minfiDataEPIC
git_branch: master
git_last_commit: 8100582
git_last_commit_date: 2021-05-19 11:58:08 -0400 (Wed, 19 May 2021)
nebbiolo2Linux (Ubuntu 20.04.2 LTS) / x86_64  OK    OK    WARNINGS  UNNEEDED, same version is already published

Summary

Package: minfiDataEPIC
Version: 1.19.0
Command: /home/biocbuild/bbs-3.14-bioc/R/bin/R CMD INSTALL minfiDataEPIC
StartedAt: 2021-10-26 11:05:16 -0400 (Tue, 26 Oct 2021)
EndedAt: 2021-10-26 11:06:24 -0400 (Tue, 26 Oct 2021)
EllapsedTime: 68.2 seconds
RetCode: 0
Status:   OK  

Command output

##############################################################################
##############################################################################
###
### Running command:
###
###   /home/biocbuild/bbs-3.14-bioc/R/bin/R CMD INSTALL minfiDataEPIC
###
##############################################################################
##############################################################################


* installing to library ‘/home/biocbuild/bbs-3.14-bioc/R/library’
* installing *source* package ‘minfiDataEPIC’ ...
** using staged installation
** data
*** moving datasets to lazyload DB
** inst
** help
*** installing help indices
** building package indices
** testing if installed package can be loaded from temporary location
** testing if installed package can be loaded from final location
** testing if installed package keeps a record of temporary installation path
* DONE (minfiDataEPIC)