Back to Build/check report for BioC 3.14 experimental data
ABCDEFGHIJKL[M]NOPQRSTUVWXYZ

This page was generated on 2021-10-26 15:52:18 -0400 (Tue, 26 Oct 2021).

All results for package minfiData

To the developers/maintainers of the minfiData package:
Make sure to use the following settings in order to reproduce any error or warning you see on this page.

raw results

Package 229/408HostnameOS / ArchINSTALLBUILDCHECK
minfiData 0.39.0  (landing page)
Kasper Daniel Hansen
Snapshot Date: 2021-10-26 09:30:02 -0400 (Tue, 26 Oct 2021)
git_url: https://git.bioconductor.org/packages/minfiData
git_branch: master
git_last_commit: deee5e7
git_last_commit_date: 2021-05-19 11:32:31 -0400 (Wed, 19 May 2021)
nebbiolo2Linux (Ubuntu 20.04.2 LTS) / x86_64  OK    OK    WARNINGS  UNNEEDED, same version is already published