Back to Build/check report for BioC 3.14 experimental data
ABCDEFGHIJKL[M]NOPQRSTUVWXYZ

This page was generated on 2021-10-19 15:52:17 -0400 (Tue, 19 Oct 2021).

All results for package microbiomeDataSets

To the developers/maintainers of the microbiomeDataSets package:
Make sure to use the following settings in order to reproduce any error or warning you see on this page.

raw results

Package 225/404HostnameOS / ArchINSTALLBUILDCHECK
microbiomeDataSets 1.1.5  (landing page)
Leo Lahti
Snapshot Date: 2021-10-19 09:30:02 -0400 (Tue, 19 Oct 2021)
git_url: https://git.bioconductor.org/packages/microbiomeDataSets
git_branch: master
git_last_commit: 6269e63
git_last_commit_date: 2021-09-07 17:55:15 -0400 (Tue, 07 Sep 2021)
nebbiolo2Linux (Ubuntu 20.04.2 LTS) / x86_64  OK    OK    OK  UNNEEDED, same version is already published