Back to Build/check report for BioC 3.14 experimental data
ABCDEFGHIJKL[M]NOPQRSTUVWXYZ

This page was generated on 2021-10-23 15:51:46 -0400 (Sat, 23 Oct 2021).

All results for package methylclockData

To the developers/maintainers of the methylclockData package:
Make sure to use the following settings in order to reproduce any error or warning you see on this page.

raw results

Package 224/408HostnameOS / ArchINSTALLBUILDCHECK
methylclockData 1.1.2  (landing page)
Dolors Pelegri-Siso
Snapshot Date: 2021-10-23 09:30:01 -0400 (Sat, 23 Oct 2021)
git_url: https://git.bioconductor.org/packages/methylclockData
git_branch: master
git_last_commit: 02a933b
git_last_commit_date: 2021-06-30 03:25:42 -0400 (Wed, 30 Jun 2021)
nebbiolo2Linux (Ubuntu 20.04.2 LTS) / x86_64  OK    OK    WARNINGS  UNNEEDED, same version is already published