Back to Build/check report for BioC 3.14 experimental data
ABCDEFGHIJKL[M]NOPQRSTUVWXYZ

This page was generated on 2021-10-23 15:51:47 -0400 (Sat, 23 Oct 2021).

BUILD results for metaMSdata on nebbiolo2

To the developers/maintainers of the metaMSdata package:
Make sure to use the following settings in order to reproduce any error or warning you see on this page.

raw results

Package 222/408HostnameOS / ArchINSTALLBUILDCHECK
metaMSdata 1.29.0  (landing page)
Yann Guitton
Snapshot Date: 2021-10-23 09:30:01 -0400 (Sat, 23 Oct 2021)
git_url: https://git.bioconductor.org/packages/metaMSdata
git_branch: master
git_last_commit: 5a73253
git_last_commit_date: 2021-05-19 11:46:55 -0400 (Wed, 19 May 2021)
nebbiolo2Linux (Ubuntu 20.04.2 LTS) / x86_64  OK    OK    OK  UNNEEDED, same version is already published

Summary

Package: metaMSdata
Version: 1.29.0
Command: /home/biocbuild/bbs-3.14-bioc/R/bin/R CMD build --keep-empty-dirs --no-resave-data metaMSdata
StartedAt: 2021-10-23 11:28:05 -0400 (Sat, 23 Oct 2021)
EndedAt: 2021-10-23 11:32:11 -0400 (Sat, 23 Oct 2021)
EllapsedTime: 246.2 seconds
RetCode: 0
Status:   OK  
PackageFile: metaMSdata_1.29.0.tar.gz
PackageFileSize: 121.9 MiB

Command output

##############################################################################
##############################################################################
###
### Running command:
###
###   /home/biocbuild/bbs-3.14-bioc/R/bin/R CMD build --keep-empty-dirs --no-resave-data metaMSdata
###
##############################################################################
##############################################################################


* checking for file ‘metaMSdata/DESCRIPTION’ ... OK
* preparing ‘metaMSdata’:
* checking DESCRIPTION meta-information ... OK
* checking for LF line-endings in source and make files and shell scripts
* checking for empty or unneeded directories
* building ‘metaMSdata_1.29.0.tar.gz’