Back to Build/check report for BioC 3.14 experimental data
ABCDEFGHIJK[L]MNOPQRSTUVWXYZ

This page was generated on 2021-10-16 15:51:46 -0400 (Sat, 16 Oct 2021).

BUILD results for lydata on nebbiolo2

To the developers/maintainers of the lydata package:
Make sure to use the following settings in order to reproduce any error or warning you see on this page.

raw results

Package 205/404HostnameOS / ArchINSTALLBUILDCHECK
lydata 1.19.0  (landing page)
Alex Pickering
Snapshot Date: 2021-10-16 09:30:02 -0400 (Sat, 16 Oct 2021)
git_url: https://git.bioconductor.org/packages/lydata
git_branch: master
git_last_commit: f2d3d19
git_last_commit_date: 2021-05-19 11:58:14 -0400 (Wed, 19 May 2021)
nebbiolo2Linux (Ubuntu 20.04.2 LTS) / x86_64  OK    OK    OK  UNNEEDED, same version is already published

Summary

Package: lydata
Version: 1.19.0
Command: /home/biocbuild/bbs-3.14-bioc/R/bin/R CMD build --keep-empty-dirs --no-resave-data lydata
StartedAt: 2021-10-16 11:25:38 -0400 (Sat, 16 Oct 2021)
EndedAt: 2021-10-16 11:27:43 -0400 (Sat, 16 Oct 2021)
EllapsedTime: 124.5 seconds
RetCode: 0
Status:   OK  
PackageFile: lydata_1.19.0.tar.gz
PackageFileSize: 158.9 MiB

Command output

##############################################################################
##############################################################################
###
### Running command:
###
###   /home/biocbuild/bbs-3.14-bioc/R/bin/R CMD build --keep-empty-dirs --no-resave-data lydata
###
##############################################################################
##############################################################################


* checking for file ‘lydata/DESCRIPTION’ ... OK
* preparing ‘lydata’:
* checking DESCRIPTION meta-information ... OK
* checking for LF line-endings in source and make files and shell scripts
* checking for empty or unneeded directories
Omitted ‘LazyData’ from DESCRIPTION
* building ‘lydata_1.19.0.tar.gz’