Back to Build/check report for BioC 3.14 experimental data
ABCDEFGHIJK[L]MNOPQRSTUVWXYZ

This page was generated on 2021-10-16 15:51:46 -0400 (Sat, 16 Oct 2021).

BUILD results for lungExpression on nebbiolo2

To the developers/maintainers of the lungExpression package:
Make sure to use the following settings in order to reproduce any error or warning you see on this page.

raw results

Package 204/404HostnameOS / ArchINSTALLBUILDCHECK
lungExpression 0.31.0  (landing page)
Robert Scharpf
Snapshot Date: 2021-10-16 09:30:02 -0400 (Sat, 16 Oct 2021)
git_url: https://git.bioconductor.org/packages/lungExpression
git_branch: master
git_last_commit: 429dfab
git_last_commit_date: 2021-05-19 11:26:07 -0400 (Wed, 19 May 2021)
nebbiolo2Linux (Ubuntu 20.04.2 LTS) / x86_64  OK    OK    OK  UNNEEDED, same version is already published

Summary

Package: lungExpression
Version: 0.31.0
Command: /home/biocbuild/bbs-3.14-bioc/R/bin/R CMD build --keep-empty-dirs --no-resave-data lungExpression
StartedAt: 2021-10-16 11:25:36 -0400 (Sat, 16 Oct 2021)
EndedAt: 2021-10-16 11:25:39 -0400 (Sat, 16 Oct 2021)
EllapsedTime: 2.2 seconds
RetCode: 0
Status:   OK  
PackageFile: lungExpression_0.31.0.tar.gz
PackageFileSize: 5.681 MiB

Command output

##############################################################################
##############################################################################
###
### Running command:
###
###   /home/biocbuild/bbs-3.14-bioc/R/bin/R CMD build --keep-empty-dirs --no-resave-data lungExpression
###
##############################################################################
##############################################################################


* checking for file ‘lungExpression/DESCRIPTION’ ... OK
* preparing ‘lungExpression’:
* checking DESCRIPTION meta-information ... OK
* checking for LF line-endings in source and make files and shell scripts
* checking for empty or unneeded directories
* looking to see if a ‘data/datalist’ file should be added
* building ‘lungExpression_0.31.0.tar.gz’