![]() | Name | Last modified | Size | Description |
---|---|---|---|---|
![]() | Parent Directory | - | ||
![]() | buildsrc-out.txt | 14-Apr-2022 03:50 | 821 | |
![]() | buildsrc-summary.dcf | 14-Apr-2022 03:50 | 434 | |
![]() | checksrc-out.txt | 14-Apr-2022 03:50 | 2.7K | |
![]() | checksrc-summary.dcf | 14-Apr-2022 03:50 | 447 | |
![]() | install-out.txt | 14-Apr-2022 03:50 | 883 | |
![]() | install-summary.dcf | 14-Apr-2022 03:50 | 270 | |