Index of /checkResults/3.14/data-experiment-LATEST/leukemiasEset/raw-results/nebbiolo2

[ICO]NameLast modifiedSizeDescription

[DIR]Parent Directory  -  
[TXT]buildsrc-out.txt20-Jan-2022 04:50 821  
[   ]buildsrc-summary.dcf20-Jan-2022 04:50 434  
[TXT]checksrc-out.txt20-Jan-2022 04:50 2.7K 
[   ]checksrc-summary.dcf20-Jan-2022 04:50 447  
[TXT]install-out.txt20-Jan-2022 04:50 883  
[   ]install-summary.dcf20-Jan-2022 04:50 270