Back to Build/check report for BioC 3.14 experimental data
ABCDEFGHIJ[K]LMNOPQRSTUVWXYZ

This page was generated on 2021-10-23 15:51:47 -0400 (Sat, 23 Oct 2021).

BUILD results for kidpack on nebbiolo2

To the developers/maintainers of the kidpack package:
Make sure to use the following settings in order to reproduce any error or warning you see on this page.

raw results

Package 195/408HostnameOS / ArchINSTALLBUILDCHECK
kidpack 1.35.0  (landing page)
Wolfgang Huber
Snapshot Date: 2021-10-23 09:30:01 -0400 (Sat, 23 Oct 2021)
git_url: https://git.bioconductor.org/packages/kidpack
git_branch: master
git_last_commit: 04efdfa
git_last_commit_date: 2021-05-19 11:25:27 -0400 (Wed, 19 May 2021)
nebbiolo2Linux (Ubuntu 20.04.2 LTS) / x86_64  OK    OK    WARNINGS  UNNEEDED, same version is already published

Summary

Package: kidpack
Version: 1.35.0
Command: /home/biocbuild/bbs-3.14-bioc/R/bin/R CMD build --keep-empty-dirs --no-resave-data kidpack
StartedAt: 2021-10-23 11:26:04 -0400 (Sat, 23 Oct 2021)
EndedAt: 2021-10-23 11:26:14 -0400 (Sat, 23 Oct 2021)
EllapsedTime: 9.8 seconds
RetCode: 0
Status:   OK  
PackageFile: kidpack_1.35.0.tar.gz
PackageFileSize: 18.34 MiB

Command output

##############################################################################
##############################################################################
###
### Running command:
###
###   /home/biocbuild/bbs-3.14-bioc/R/bin/R CMD build --keep-empty-dirs --no-resave-data kidpack
###
##############################################################################
##############################################################################


* checking for file ‘kidpack/DESCRIPTION’ ... OK
* preparing ‘kidpack’:
* checking DESCRIPTION meta-information ... OK
* installing the package to build vignettes
* creating vignettes ... OK
* checking for LF line-endings in source and make files and shell scripts
* checking for empty or unneeded directories
* looking to see if a ‘data/datalist’ file should be added
* building ‘kidpack_1.35.0.tar.gz’