Back to Build/check report for BioC 3.14 experimental data
ABCDEFG[H]IJKLMNOPQRSTUVWXYZ

This page was generated on 2021-10-19 15:52:18 -0400 (Tue, 19 Oct 2021).

BUILD results for hgu2beta7 on nebbiolo2

To the developers/maintainers of the hgu2beta7 package:
Make sure to use the following settings in order to reproduce any error or warning you see on this page.

raw results

Package 173/404HostnameOS / ArchINSTALLBUILDCHECK
hgu2beta7 1.33.0  (landing page)
Bioconductor Package Maintainer
Snapshot Date: 2021-10-19 09:30:02 -0400 (Tue, 19 Oct 2021)
git_url: https://git.bioconductor.org/packages/hgu2beta7
git_branch: master
git_last_commit: b8ff2ec
git_last_commit_date: 2021-05-19 11:25:16 -0400 (Wed, 19 May 2021)
nebbiolo2Linux (Ubuntu 20.04.2 LTS) / x86_64  OK    OK    WARNINGS  UNNEEDED, same version is already published

Summary

Package: hgu2beta7
Version: 1.33.0
Command: /home/biocbuild/bbs-3.14-bioc/R/bin/R CMD build --keep-empty-dirs --no-resave-data hgu2beta7
StartedAt: 2021-10-19 11:23:52 -0400 (Tue, 19 Oct 2021)
EndedAt: 2021-10-19 11:23:53 -0400 (Tue, 19 Oct 2021)
EllapsedTime: 0.7 seconds
RetCode: 0
Status:   OK  
PackageFile: hgu2beta7_1.33.0.tar.gz
PackageFileSize: 6.409 MiB

Command output

##############################################################################
##############################################################################
###
### Running command:
###
###   /home/biocbuild/bbs-3.14-bioc/R/bin/R CMD build --keep-empty-dirs --no-resave-data hgu2beta7
###
##############################################################################
##############################################################################


* checking for file ‘hgu2beta7/DESCRIPTION’ ... OK
* preparing ‘hgu2beta7’:
* checking DESCRIPTION meta-information ... OK
* checking for LF line-endings in source and make files and shell scripts
* checking for empty or unneeded directories
* building ‘hgu2beta7_1.33.0.tar.gz’