Back to Build/check report for BioC 3.14 experimental data
ABCDEFG[H]IJKLMNOPQRSTUVWXYZ

This page was generated on 2021-11-24 18:35:26 -0500 (Wed, 24 Nov 2021).

CHECK results for hgu133plus2barcodevecs on nebbiolo2

To the developers/maintainers of the hgu133plus2barcodevecs package:
Make sure to use the following settings in order to reproduce any error or warning you see on this page.

raw results

Package 172/408HostnameOS / ArchINSTALLBUILDCHECK
hgu133plus2barcodevecs 1.32.0  (landing page)
Matthew N. McCall
Snapshot Date: 2021-11-24 08:30:01 -0500 (Wed, 24 Nov 2021)
git_url: https://git.bioconductor.org/packages/hgu133plus2barcodevecs
git_branch: RELEASE_3_14
git_last_commit: f761add
git_last_commit_date: 2021-10-26 11:45:18 -0500 (Tue, 26 Oct 2021)
nebbiolo2Linux (Ubuntu 20.04.3 LTS) / x86_64  OK    OK    OK  UNNEEDED, same version is already published

Summary

Package: hgu133plus2barcodevecs
Version: 1.32.0
Command: /home/biocbuild/bbs-3.14-bioc/R/bin/R CMD check --install=check:hgu133plus2barcodevecs.install-out.txt --library=/home/biocbuild/bbs-3.14-bioc/R/library --no-vignettes --timings hgu133plus2barcodevecs_1.32.0.tar.gz
StartedAt: 2021-11-24 15:39:15 -0500 (Wed, 24 Nov 2021)
EndedAt: 2021-11-24 15:39:23 -0500 (Wed, 24 Nov 2021)
EllapsedTime: 8.4 seconds
RetCode: 0
Status:   OK  
CheckDir: hgu133plus2barcodevecs.Rcheck
Warnings: 0

Command output

##############################################################################
##############################################################################
###
### Running command:
###
###   /home/biocbuild/bbs-3.14-bioc/R/bin/R CMD check --install=check:hgu133plus2barcodevecs.install-out.txt --library=/home/biocbuild/bbs-3.14-bioc/R/library --no-vignettes --timings hgu133plus2barcodevecs_1.32.0.tar.gz
###
##############################################################################
##############################################################################


* using log directory ‘/home/biocbuild/bbs-3.14-data-experiment/meat/hgu133plus2barcodevecs.Rcheck’
* using R version 4.1.2 (2021-11-01)
* using platform: x86_64-pc-linux-gnu (64-bit)
* using session charset: UTF-8
* using option ‘--no-vignettes’
* checking for file ‘hgu133plus2barcodevecs/DESCRIPTION’ ... OK
* this is package ‘hgu133plus2barcodevecs’ version ‘1.32.0’
* checking package namespace information ... OK
* checking package dependencies ... OK
* checking if this is a source package ... OK
* checking if there is a namespace ... OK
* checking for hidden files and directories ... OK
* checking for portable file names ... OK
* checking for sufficient/correct file permissions ... OK
* checking whether package ‘hgu133plus2barcodevecs’ can be installed ... OK
* checking installed package size ... OK
* checking package directory ... OK
* checking DESCRIPTION meta-information ... OK
* checking top-level files ... OK
* checking for left-over files ... OK
* checking index information ... OK
* checking package subdirectories ... OK
* checking whether the package can be loaded ... OK
* checking whether the package can be loaded with stated dependencies ... OK
* checking whether the package can be unloaded cleanly ... OK
* checking whether the namespace can be loaded with stated dependencies ... OK
* checking whether the namespace can be unloaded cleanly ... OK
* checking Rd files ... OK
* checking Rd metadata ... OK
* checking Rd cross-references ... OK
* checking for missing documentation entries ... OK
* checking for code/documentation mismatches ... OK
* checking Rd \usage sections ... OK
* checking Rd contents ... OK
* checking for unstated dependencies in examples ... OK
* checking contents of ‘data’ directory ... OK
* checking data for non-ASCII characters ... OK
* checking data for ASCII and uncompressed saves ... OK
* checking examples ... NONE
* checking PDF version of manual ... OK
* DONE

Status: OK


Installation output

hgu133plus2barcodevecs.Rcheck/00install.out

##############################################################################
##############################################################################
###
### Running command:
###
###   /home/biocbuild/bbs-3.14-bioc/R/bin/R CMD INSTALL hgu133plus2barcodevecs
###
##############################################################################
##############################################################################


* installing to library ‘/home/biocbuild/bbs-3.14-bioc/R/library’
* installing *source* package ‘hgu133plus2barcodevecs’ ...
** using staged installation
** data
** help
*** installing help indices
** building package indices
** testing if installed package can be loaded from temporary location
** testing if installed package can be loaded from final location
** testing if installed package keeps a record of temporary installation path
* DONE (hgu133plus2barcodevecs)

Tests output


Example timings