Back to Build/check report for BioC 3.14 experimental data
ABCDEFG[H]IJKLMNOPQRSTUVWXYZ

This page was generated on 2021-10-26 15:52:18 -0400 (Tue, 26 Oct 2021).

All results for package hgu133plus2barcodevecs

To the developers/maintainers of the hgu133plus2barcodevecs package:
Make sure to use the following settings in order to reproduce any error or warning you see on this page.

raw results

Package 172/408HostnameOS / ArchINSTALLBUILDCHECK
hgu133plus2barcodevecs 1.31.0  (landing page)
Matthew N. McCall
Snapshot Date: 2021-10-26 09:30:02 -0400 (Tue, 26 Oct 2021)
git_url: https://git.bioconductor.org/packages/hgu133plus2barcodevecs
git_branch: master
git_last_commit: 041ce7e
git_last_commit_date: 2021-05-19 11:30:26 -0400 (Wed, 19 May 2021)
nebbiolo2Linux (Ubuntu 20.04.2 LTS) / x86_64  OK    OK    OK  UNNEEDED, same version is already published