Back to Build/check report for BioC 3.14 experimental data
ABCDEFG[H]IJKLMNOPQRSTUVWXYZ

This page was generated on 2021-10-16 15:51:46 -0400 (Sat, 16 Oct 2021).

BUILD results for hgu133plus2CellScore on nebbiolo2

To the developers/maintainers of the hgu133plus2CellScore package:
Make sure to use the following settings in order to reproduce any error or warning you see on this page.

raw results

Package 172/404HostnameOS / ArchINSTALLBUILDCHECK
hgu133plus2CellScore 1.13.0  (landing page)
Nancy Mah
Snapshot Date: 2021-10-16 09:30:02 -0400 (Sat, 16 Oct 2021)
git_url: https://git.bioconductor.org/packages/hgu133plus2CellScore
git_branch: master
git_last_commit: 3d0c2ca
git_last_commit_date: 2021-05-19 12:04:02 -0400 (Wed, 19 May 2021)
nebbiolo2Linux (Ubuntu 20.04.2 LTS) / x86_64  OK    OK    WARNINGS  UNNEEDED, same version is already published

Summary

Package: hgu133plus2CellScore
Version: 1.13.0
Command: /home/biocbuild/bbs-3.14-bioc/R/bin/R CMD build --keep-empty-dirs --no-resave-data hgu133plus2CellScore
StartedAt: 2021-10-16 11:23:03 -0400 (Sat, 16 Oct 2021)
EndedAt: 2021-10-16 11:23:29 -0400 (Sat, 16 Oct 2021)
EllapsedTime: 26.1 seconds
RetCode: 0
Status:   OK  
PackageFile: hgu133plus2CellScore_1.13.0.tar.gz
PackageFileSize: 40.99 MiB

Command output

##############################################################################
##############################################################################
###
### Running command:
###
###   /home/biocbuild/bbs-3.14-bioc/R/bin/R CMD build --keep-empty-dirs --no-resave-data hgu133plus2CellScore
###
##############################################################################
##############################################################################


* checking for file ‘hgu133plus2CellScore/DESCRIPTION’ ... OK
* preparing ‘hgu133plus2CellScore’:
* checking DESCRIPTION meta-information ... OK
* installing the package to build vignettes
* creating vignettes ... OK
* checking for LF line-endings in source and make files and shell scripts
* checking for empty or unneeded directories
* building ‘hgu133plus2CellScore_1.13.0.tar.gz’